BEGIN:VCALENDAR
VERSION:2.0
PRODID:-//Standing In The Word Ministries - ECPv6.15.20//NONSGML v1.0//EN
CALSCALE:GREGORIAN
METHOD:PUBLISH
X-WR-CALNAME:Standing In The Word Ministries
X-ORIGINAL-URL:https://standingintheword.org
X-WR-CALDESC:Events for Standing In The Word Ministries
REFRESH-INTERVAL;VALUE=DURATION:PT1H
X-Robots-Tag:noindex
X-PUBLISHED-TTL:PT1H
BEGIN:VTIMEZONE
TZID:America/Chicago
BEGIN:DAYLIGHT
TZOFFSETFROM:-0600
TZOFFSETTO:-0500
TZNAME:CDT
DTSTART:20230312T080000
END:DAYLIGHT
BEGIN:STANDARD
TZOFFSETFROM:-0500
TZOFFSETTO:-0600
TZNAME:CST
DTSTART:20231105T070000
END:STANDARD
BEGIN:DAYLIGHT
TZOFFSETFROM:-0600
TZOFFSETTO:-0500
TZNAME:CDT
DTSTART:20240310T080000
END:DAYLIGHT
BEGIN:STANDARD
TZOFFSETFROM:-0500
TZOFFSETTO:-0600
TZNAME:CST
DTSTART:20241103T070000
END:STANDARD
BEGIN:DAYLIGHT
TZOFFSETFROM:-0600
TZOFFSETTO:-0500
TZNAME:CDT
DTSTART:20250309T080000
END:DAYLIGHT
BEGIN:STANDARD
TZOFFSETFROM:-0500
TZOFFSETTO:-0600
TZNAME:CST
DTSTART:20251102T070000
END:STANDARD
END:VTIMEZONE
BEGIN:VEVENT
DTSTART;TZID=America/Chicago:20241020T100000
DTEND;TZID=America/Chicago:20241020T120000
DTSTAMP:20260421T155145
CREATED:20240920T172414Z
LAST-MODIFIED:20241017T153940Z
UID:14909-1729418400-1729425600@standingintheword.org
SUMMARY:Pastor Appreciation Sunday
DESCRIPTION:October is Pastor Appreciation Month! We are going to dedicate this day as a day of honor and celebration of our Pastor. Following the morning service we will be having a time of fellowship and FOOD! We invite you to join us for a special time of worship and a great afternoon of fellowship. *There will be no evening service.*
URL:https://standingintheword.org/event/pastor-appreciation-sunday/
CATEGORIES:Church Services
END:VEVENT
END:VCALENDAR